BEGIN:VCALENDAR
VERSION:2.0
PRODID:-//wp-events-plugin.com//7.2.3.1//EN
TZID:America/Chicago
X-WR-TIMEZONE:America/Chicago
BEGIN:VEVENT
UID:89@kcbricklab.org
DTSTART;TZID=America/Chicago:20250412T140000
DTEND;TZID=America/Chicago:20250412T190000
DTSTAMP:20250402T042639Z
URL:https://kcbricklab.org/events/lpl-con-2025/
SUMMARY:LPL Con
DESCRIPTION:
LOCATION:Lawrence Public Library\, 707 Vermont St\, Lawrence\, KS\, 66044\,
  United States
X-APPLE-STRUCTURED-LOCATION;VALUE=URI;X-ADDRESS=707 Vermont St\, Lawrence\,
  KS\, 66044\, United States;X-APPLE-RADIUS=100;X-TITLE=Lawrence Public Lib
 rary:geo:0,0
END:VEVENT
BEGIN:VTIMEZONE
TZID:America/Chicago
X-LIC-LOCATION:America/Chicago
BEGIN:DAYLIGHT
DTSTART:20250309T030000
TZOFFSETFROM:-0600
TZOFFSETTO:-0500
TZNAME:CDT
END:DAYLIGHT
END:VTIMEZONE
END:VCALENDAR