BEGIN:VCALENDAR
VERSION:2.0
PRODID:-//wp-events-plugin.com//7.2.3.1//EN
TZID:America/Chicago
X-WR-TIMEZONE:America/Chicago
BEGIN:VEVENT
UID:59@kcbricklab.org
DTSTART;TZID=America/Chicago:20230506T100000
DTEND;TZID=America/Chicago:20230507T160000
DTSTAMP:20230414T004513Z
URL:https://kcbricklab.org/events/kc-brick-lab-2023-showcase/
SUMMARY:KC Brick Lab Showcase
DESCRIPTION:
LOCATION:Olathe Indian Creek Library\, 16100 W 135th\, Olathe\, KS\, 66062\
 , United States
X-APPLE-STRUCTURED-LOCATION;VALUE=URI;X-ADDRESS=16100 W 135th\, Olathe\, KS
 \, 66062\, United States;X-APPLE-RADIUS=100;X-TITLE=Olathe Indian Creek Li
 brary:geo:0,0
END:VEVENT
BEGIN:VTIMEZONE
TZID:America/Chicago
X-LIC-LOCATION:America/Chicago
BEGIN:DAYLIGHT
DTSTART:20230312T030000
TZOFFSETFROM:-0600
TZOFFSETTO:-0500
TZNAME:CDT
END:DAYLIGHT
END:VTIMEZONE
END:VCALENDAR